BEGIN:VCALENDAR
VERSION:2.0
PRODID:-//The Onyx Grounds - ECPv6.6.0.2//NONSGML v1.0//EN
CALSCALE:GREGORIAN
METHOD:PUBLISH
X-ORIGINAL-URL:https://www.theonyxgrounds.com
X-WR-CALDESC:Events for The Onyx Grounds
REFRESH-INTERVAL;VALUE=DURATION:PT1H
X-Robots-Tag:noindex
X-PUBLISHED-TTL:PT1H
BEGIN:VTIMEZONE
TZID:UTC
BEGIN:STANDARD
TZOFFSETFROM:+0000
TZOFFSETTO:+0000
TZNAME:UTC
DTSTART:20220101T000000
END:STANDARD
END:VTIMEZONE
BEGIN:VEVENT
DTSTART;TZID=UTC:20220924T190000
DTEND;TZID=UTC:20220924T220000
DTSTAMP:20260421T174312
CREATED:20220909T085553Z
LAST-MODIFIED:20220916T040222Z
UID:343-1664046000-1664056800@www.theonyxgrounds.com
SUMMARY:Latin Night
DESCRIPTION:Salsa! Merengue! Bachata\, and more! All the latin dance vibes coming to you featuring D.Allen DJ Services. Get your tickets below!\n\n\n\n\n\nSoft drinks & alcoholic beverages available for purchase
URL:https://www.theonyxgrounds.com/event-calendar/latin-night/
LOCATION:The Onyx Grounds\, 4711 S Highway 92\, Sierra Vista\, AZ\, 85650
ATTACH;FMTTYPE=image/jpeg:https://www.theonyxgrounds.com/wp-content/uploads/2022/09/Latin-Night-1.jpg
END:VEVENT
END:VCALENDAR