BEGIN:VCALENDAR
VERSION:2.0
PRODID:-//The Onyx Grounds - ECPv6.6.0.2//NONSGML v1.0//EN
CALSCALE:GREGORIAN
METHOD:PUBLISH
X-ORIGINAL-URL:https://www.theonyxgrounds.com
X-WR-CALDESC:Events for The Onyx Grounds
REFRESH-INTERVAL;VALUE=DURATION:PT1H
X-Robots-Tag:noindex
X-PUBLISHED-TTL:PT1H
BEGIN:VTIMEZONE
TZID:UTC
BEGIN:STANDARD
TZOFFSETFROM:+0000
TZOFFSETTO:+0000
TZNAME:UTC
DTSTART:20230101T000000
END:STANDARD
END:VTIMEZONE
BEGIN:VEVENT
DTSTART;TZID=UTC:20230204T100000
DTEND;TZID=UTC:20230204T130000
DTSTAMP:20260421T103313
CREATED:20230124T012514Z
LAST-MODIFIED:20230124T012616Z
UID:463-1675504800-1675515600@www.theonyxgrounds.com
SUMMARY:Adoption Event & Fundraiser
DESCRIPTION:We will be hosting Border Animal Rescue to get some cats & kittens adopted to loving homes! Come check them out and enjoy 10% of any latte at Urbano Bar & Bistro from 10 AM-1 PM. They will also have a variety of freshly roasted coffee beans for sale by the bag. $5 of every coffee bag purchase will go directly to Border Animal Rescue. Cat supplies\, blankets\, cleaning products\, and toy donations will also be accepted!
URL:https://www.theonyxgrounds.com/event-calendar/adoption-event-fundraiser-2/
LOCATION:The Onyx Grounds\, 4711 S Highway 92\, Sierra Vista\, AZ\, 85650
ATTACH;FMTTYPE=image/jpeg:https://www.theonyxgrounds.com/wp-content/uploads/2023/01/ADOPTION-EVENT-2-1-1-scaled.jpg
END:VEVENT
END:VCALENDAR