BEGIN:VCALENDAR
VERSION:2.0
PRODID:-//The Onyx Grounds - ECPv6.6.0.2//NONSGML v1.0//EN
CALSCALE:GREGORIAN
METHOD:PUBLISH
X-WR-CALNAME:The Onyx Grounds
X-ORIGINAL-URL:https://www.theonyxgrounds.com
X-WR-CALDESC:Events for The Onyx Grounds
REFRESH-INTERVAL;VALUE=DURATION:PT1H
X-Robots-Tag:noindex
X-PUBLISHED-TTL:PT1H
BEGIN:VTIMEZONE
TZID:UTC
BEGIN:STANDARD
TZOFFSETFROM:+0000
TZOFFSETTO:+0000
TZNAME:UTC
DTSTART:20230101T000000
END:STANDARD
END:VTIMEZONE
BEGIN:VEVENT
DTSTART;TZID=UTC:20230314T180000
DTEND;TZID=UTC:20230314T200000
DTSTAMP:20260421T091531
CREATED:20221130T012926Z
LAST-MODIFIED:20221130T012926Z
UID:453-1678816800-1678824000@www.theonyxgrounds.com
SUMMARY:Open Mic Night
DESCRIPTION:Bring your short stories\, poems\, and music to share!
URL:https://www.theonyxgrounds.com/event-calendar/open-mic-night-8/
LOCATION:The Onyx Grounds\, 4711 S Highway 92\, Sierra Vista\, AZ\, 85650
ATTACH;FMTTYPE=image/jpeg:https://www.theonyxgrounds.com/wp-content/uploads/2022/08/OPEN-MIC-NIGHT-scaled-e1659388372173.jpg
END:VEVENT
END:VCALENDAR