BEGIN:VCALENDAR
VERSION:2.0
PRODID:-//The Onyx Grounds - ECPv6.6.0.2//NONSGML v1.0//EN
CALSCALE:GREGORIAN
METHOD:PUBLISH
X-WR-CALNAME:The Onyx Grounds
X-ORIGINAL-URL:https://www.theonyxgrounds.com
X-WR-CALDESC:Events for The Onyx Grounds
REFRESH-INTERVAL;VALUE=DURATION:PT1H
X-Robots-Tag:noindex
X-PUBLISHED-TTL:PT1H
BEGIN:VTIMEZONE
TZID:UTC
BEGIN:STANDARD
TZOFFSETFROM:+0000
TZOFFSETTO:+0000
TZNAME:UTC
DTSTART:20220101T000000
END:STANDARD
TZID:America/Phoenix
BEGIN:STANDARD
TZOFFSETFROM:-0700
TZOFFSETTO:-0700
TZNAME:MST
DTSTART:20220101T000000
END:STANDARD
END:VTIMEZONE
BEGIN:VEVENT
DTSTART;TZID=UTC:20221027T180000
DTEND;TZID=UTC:20221027T200000
DTSTAMP:20260421T174450
CREATED:20221021T003012Z
LAST-MODIFIED:20221021T003012Z
UID:393-1666893600-1666900800@www.theonyxgrounds.com
SUMMARY:Live Music: Carole & Scott Hurter
DESCRIPTION:
URL:https://www.theonyxgrounds.com/event-calendar/live-music-carole-scott-hurter-3/
LOCATION:Urbano Bar & Bistro\, 4711 S Highway 92\, Sierra Vista\, AZ\, 85650\, United States
ATTACH;FMTTYPE=image/jpeg:https://www.theonyxgrounds.com/wp-content/uploads/2022/10/IMG_0501.jpeg
END:VEVENT
BEGIN:VEVENT
DTSTART;TZID=America/Phoenix:20221104T190000
DTEND;TZID=America/Phoenix:20221104T220000
DTSTAMP:20260421T174450
CREATED:20221005T024140Z
LAST-MODIFIED:20221106T121102Z
UID:379-1667588400-1667599200@www.theonyxgrounds.com
SUMMARY:One Ghost Live
DESCRIPTION:Tickets will also be available at the door.
URL:https://www.theonyxgrounds.com/event-calendar/one-ghost-live/
LOCATION:The Onyx Grounds\, 4711 S Highway 92\, Sierra Vista\, AZ\, 85650
ATTACH;FMTTYPE=image/jpeg:https://www.theonyxgrounds.com/wp-content/uploads/2022/10/ONE-GHOST.jpg
END:VEVENT
BEGIN:VEVENT
DTSTART;TZID=UTC:20221105T110000
DTEND;TZID=UTC:20221105T140000
DTSTAMP:20260421T174450
CREATED:20220930T035758Z
LAST-MODIFIED:20221004T044628Z
UID:365-1667646000-1667656800@www.theonyxgrounds.com
SUMMARY:Adoption Event & Fundraiser
DESCRIPTION:Hosting Rescue Adoption Volunteers. \nThey will be collecting donations of laundry soap\, paper towels\, trash bags\, bleach\, all-purpose cleaners\, dog food\, cat food\, towels\, and blankets.
URL:https://www.theonyxgrounds.com/event-calendar/adoption-event-fundraiser/
LOCATION:The Onyx Grounds\, 4711 S Highway 92\, Sierra Vista\, AZ\, 85650
ATTACH;FMTTYPE=image/jpeg:https://www.theonyxgrounds.com/wp-content/uploads/2022/09/ADOPTION-EVENT-1-scaled.jpg
END:VEVENT
BEGIN:VEVENT
DTSTART;TZID=UTC:20221110T180000
DTEND;TZID=UTC:20221110T200000
DTSTAMP:20260421T174450
CREATED:20220802T042752Z
LAST-MODIFIED:20220802T053515Z
UID:272-1668103200-1668110400@www.theonyxgrounds.com
SUMMARY:Open Mic Night
DESCRIPTION:Bring your short stories\, poems\, and music to share!
URL:https://www.theonyxgrounds.com/event-calendar/open-mic-night-5/
LOCATION:The Onyx Grounds\, 4711 S Highway 92\, Sierra Vista\, AZ\, 85650
ATTACH;FMTTYPE=image/jpeg:https://www.theonyxgrounds.com/wp-content/uploads/2022/08/OPEN-MIC-NIGHT-scaled-e1659388372173.jpg
END:VEVENT
BEGIN:VEVENT
DTSTART;TZID=UTC:20221112T130000
DTEND;TZID=UTC:20221112T180000
DTSTAMP:20260421T174450
CREATED:20220924T004549Z
LAST-MODIFIED:20221108T033933Z
UID:363-1668258000-1668276000@www.theonyxgrounds.com
SUMMARY:Sip-N-Shop Fest
DESCRIPTION:Come join us this weekend for local shopping\, local sips & live music by Juniper Djinn! \n$20 entry includes 5 sample drink tickets. Kids 12 and under are free entry. \n\nVENDORS INCLUDE:\nRose in Bloom\nDesert Fable\nYour Space LLC\nBorderlands Art\nBella’s Sewing\nDronewokrs Custom Woodwork\nSerenity Soap Store\nNative Bohéme Jewelry\nBlue Mustard Seed Studios\nJeanne Marie Designs\nKG Potters Shop\nChalia’s Craft\nBeauty Counter\nLisa Designs\nGary Dawson Designs\nTashi Tea\nBig Papa’s Kitchen & Spices\nThe Meading Room\nDulce Vida Tequila\nUrbano Bar & Bistro
URL:https://www.theonyxgrounds.com/event-calendar/sip-n-shop-fest/
LOCATION:The Onyx Grounds\, 4711 S Highway 92\, Sierra Vista\, AZ\, 85650
ATTACH;FMTTYPE=image/jpeg:https://www.theonyxgrounds.com/wp-content/uploads/2022/09/Sip-N-Shop-1-1-scaled.jpg
END:VEVENT
BEGIN:VEVENT
DTSTART;TZID=UTC:20221208T180000
DTEND;TZID=UTC:20221208T200000
DTSTAMP:20260421T174450
CREATED:20220802T041924Z
LAST-MODIFIED:20220802T053459Z
UID:269-1670522400-1670529600@www.theonyxgrounds.com
SUMMARY:Open Mic Night
DESCRIPTION:Bring your short stories\, poems\, and music to share!
URL:https://www.theonyxgrounds.com/event-calendar/open-mic-night-4/
LOCATION:The Onyx Grounds\, 4711 S Highway 92\, Sierra Vista\, AZ\, 85650
ATTACH;FMTTYPE=image/jpeg:https://www.theonyxgrounds.com/wp-content/uploads/2022/08/OPEN-MIC-NIGHT-scaled-e1659388372173.jpg
END:VEVENT
BEGIN:VEVENT
DTSTART;TZID=UTC:20230110T180000
DTEND;TZID=UTC:20230110T200000
DTSTAMP:20260421T174450
CREATED:20221130T012813Z
LAST-MODIFIED:20221130T012844Z
UID:449-1673373600-1673380800@www.theonyxgrounds.com
SUMMARY:Open Mic Night
DESCRIPTION:Bring your short stories\, poems\, and music to share!
URL:https://www.theonyxgrounds.com/event-calendar/open-mic-night-6/
LOCATION:The Onyx Grounds\, 4711 S Highway 92\, Sierra Vista\, AZ\, 85650
ATTACH;FMTTYPE=image/jpeg:https://www.theonyxgrounds.com/wp-content/uploads/2022/08/OPEN-MIC-NIGHT-scaled-e1659388372173.jpg
END:VEVENT
BEGIN:VEVENT
DTSTART;TZID=UTC:20230204T100000
DTEND;TZID=UTC:20230204T130000
DTSTAMP:20260421T174450
CREATED:20230124T012514Z
LAST-MODIFIED:20230124T012616Z
UID:463-1675504800-1675515600@www.theonyxgrounds.com
SUMMARY:Adoption Event & Fundraiser
DESCRIPTION:We will be hosting Border Animal Rescue to get some cats & kittens adopted to loving homes! Come check them out and enjoy 10% of any latte at Urbano Bar & Bistro from 10 AM-1 PM. They will also have a variety of freshly roasted coffee beans for sale by the bag. $5 of every coffee bag purchase will go directly to Border Animal Rescue. Cat supplies\, blankets\, cleaning products\, and toy donations will also be accepted!
URL:https://www.theonyxgrounds.com/event-calendar/adoption-event-fundraiser-2/
LOCATION:The Onyx Grounds\, 4711 S Highway 92\, Sierra Vista\, AZ\, 85650
ATTACH;FMTTYPE=image/jpeg:https://www.theonyxgrounds.com/wp-content/uploads/2023/01/ADOPTION-EVENT-2-1-1-scaled.jpg
END:VEVENT
BEGIN:VEVENT
DTSTART;VALUE=DATE:20230212
DTEND;VALUE=DATE:20230213
DTSTAMP:20260421T174450
CREATED:20230124T014456Z
LAST-MODIFIED:20230125T004119Z
UID:470-1676160000-1676246399@www.theonyxgrounds.com
SUMMARY:Super Game Day Hosted by Urbano
DESCRIPTION:Limited Seating!!! Reserve a table or sofa area today at reservations@urbanobarbistro.com\n\n\n\n5 bottle buckets of ice-cold Bud Light beers for $25!!\n\n\nSome specialty menu items include wings\, cheeseburger egg rolls\, Hatch green chile nachos with pulled pork & fried jalapeño mac-n-cheese bites.
URL:https://www.theonyxgrounds.com/event-calendar/super-bowl-sunday-hosted-by-urbano/
LOCATION:The Onyx Grounds\, 4711 S Highway 92\, Sierra Vista\, AZ\, 85650
ATTACH;FMTTYPE=image/jpeg:https://www.theonyxgrounds.com/wp-content/uploads/2023/01/325778807_598600042097046_494326900545671173_n.jpg
END:VEVENT
BEGIN:VEVENT
DTSTART;TZID=UTC:20230214T180000
DTEND;TZID=UTC:20230214T200000
DTSTAMP:20260421T174450
CREATED:20221130T012906Z
LAST-MODIFIED:20221130T012906Z
UID:451-1676397600-1676404800@www.theonyxgrounds.com
SUMMARY:Open Mic Night
DESCRIPTION:Bring your short stories\, poems\, and music to share!
URL:https://www.theonyxgrounds.com/event-calendar/open-mic-night-7/
LOCATION:The Onyx Grounds\, 4711 S Highway 92\, Sierra Vista\, AZ\, 85650
ATTACH;FMTTYPE=image/jpeg:https://www.theonyxgrounds.com/wp-content/uploads/2022/08/OPEN-MIC-NIGHT-scaled-e1659388372173.jpg
END:VEVENT
BEGIN:VEVENT
DTSTART;TZID=UTC:20230314T180000
DTEND;TZID=UTC:20230314T200000
DTSTAMP:20260421T174450
CREATED:20221130T012926Z
LAST-MODIFIED:20221130T012926Z
UID:453-1678816800-1678824000@www.theonyxgrounds.com
SUMMARY:Open Mic Night
DESCRIPTION:Bring your short stories\, poems\, and music to share!
URL:https://www.theonyxgrounds.com/event-calendar/open-mic-night-8/
LOCATION:The Onyx Grounds\, 4711 S Highway 92\, Sierra Vista\, AZ\, 85650
ATTACH;FMTTYPE=image/jpeg:https://www.theonyxgrounds.com/wp-content/uploads/2022/08/OPEN-MIC-NIGHT-scaled-e1659388372173.jpg
END:VEVENT
BEGIN:VEVENT
DTSTART;TZID=UTC:20230411T180000
DTEND;TZID=UTC:20230411T200000
DTSTAMP:20260421T174450
CREATED:20221130T012950Z
LAST-MODIFIED:20221130T012950Z
UID:455-1681236000-1681243200@www.theonyxgrounds.com
SUMMARY:Open Mic Night
DESCRIPTION:Bring your short stories\, poems\, and music to share!
URL:https://www.theonyxgrounds.com/event-calendar/open-mic-night-9/
LOCATION:The Onyx Grounds\, 4711 S Highway 92\, Sierra Vista\, AZ\, 85650
ATTACH;FMTTYPE=image/jpeg:https://www.theonyxgrounds.com/wp-content/uploads/2022/08/OPEN-MIC-NIGHT-scaled-e1659388372173.jpg
END:VEVENT
BEGIN:VEVENT
DTSTART;TZID=UTC:20230509T180000
DTEND;TZID=UTC:20230509T200000
DTSTAMP:20260421T174450
CREATED:20221130T013016Z
LAST-MODIFIED:20221130T013016Z
UID:457-1683655200-1683662400@www.theonyxgrounds.com
SUMMARY:Open Mic Night
DESCRIPTION:Bring your short stories\, poems\, and music to share!
URL:https://www.theonyxgrounds.com/event-calendar/open-mic-night-10/
LOCATION:The Onyx Grounds\, 4711 S Highway 92\, Sierra Vista\, AZ\, 85650
ATTACH;FMTTYPE=image/jpeg:https://www.theonyxgrounds.com/wp-content/uploads/2022/08/OPEN-MIC-NIGHT-scaled-e1659388372173.jpg
END:VEVENT
BEGIN:VEVENT
DTSTART;TZID=UTC:20230530T080000
DTEND;TZID=UTC:20230607T170000
DTSTAMP:20260421T174450
CREATED:20230315T042600Z
LAST-MODIFIED:20230315T042600Z
UID:1053-1685433600-1686157200@www.theonyxgrounds.com
SUMMARY:Booked for Event
DESCRIPTION:
URL:https://www.theonyxgrounds.com/event-calendar/booked-for-event/
LOCATION:The Onyx Grounds\, 4711 S Highway 92\, Sierra Vista\, AZ\, 85650
ORGANIZER;CN="The Onyx Grounds":MAILTO:events@theonyxgrounds.com
END:VEVENT
BEGIN:VEVENT
DTSTART;TZID=UTC:20230613T180000
DTEND;TZID=UTC:20230613T200000
DTSTAMP:20260421T174450
CREATED:20221130T013041Z
LAST-MODIFIED:20221130T013041Z
UID:459-1686679200-1686686400@www.theonyxgrounds.com
SUMMARY:Open Mic Night
DESCRIPTION:Bring your short stories\, poems\, and music to share!
URL:https://www.theonyxgrounds.com/event-calendar/open-mic-night-11/
LOCATION:The Onyx Grounds\, 4711 S Highway 92\, Sierra Vista\, AZ\, 85650
ATTACH;FMTTYPE=image/jpeg:https://www.theonyxgrounds.com/wp-content/uploads/2022/08/OPEN-MIC-NIGHT-scaled-e1659388372173.jpg
END:VEVENT
END:VCALENDAR