BEGIN:VCALENDAR
VERSION:2.0
PRODID:-//The Onyx Grounds - ECPv6.6.0.2//NONSGML v1.0//EN
CALSCALE:GREGORIAN
METHOD:PUBLISH
X-ORIGINAL-URL:https://www.theonyxgrounds.com
X-WR-CALDESC:Events for The Onyx Grounds
REFRESH-INTERVAL;VALUE=DURATION:PT1H
X-Robots-Tag:noindex
X-PUBLISHED-TTL:PT1H
BEGIN:VTIMEZONE
TZID:UTC
BEGIN:STANDARD
TZOFFSETFROM:+0000
TZOFFSETTO:+0000
TZNAME:UTC
DTSTART:20230101T000000
END:STANDARD
END:VTIMEZONE
BEGIN:VEVENT
DTSTART;TZID=UTC:20230314T180000
DTEND;TZID=UTC:20230314T200000
DTSTAMP:20260421T172302
CREATED:20221130T012926Z
LAST-MODIFIED:20221130T012926Z
UID:453-1678816800-1678824000@www.theonyxgrounds.com
SUMMARY:Open Mic Night
DESCRIPTION:Bring your short stories\, poems\, and music to share!
URL:https://www.theonyxgrounds.com/event-calendar/open-mic-night-8/
LOCATION:The Onyx Grounds\, 4711 S Highway 92\, Sierra Vista\, AZ\, 85650
ATTACH;FMTTYPE=image/jpeg:https://www.theonyxgrounds.com/wp-content/uploads/2022/08/OPEN-MIC-NIGHT-scaled-e1659388372173.jpg
END:VEVENT
BEGIN:VEVENT
DTSTART;TZID=UTC:20230411T180000
DTEND;TZID=UTC:20230411T200000
DTSTAMP:20260421T172302
CREATED:20221130T012950Z
LAST-MODIFIED:20221130T012950Z
UID:455-1681236000-1681243200@www.theonyxgrounds.com
SUMMARY:Open Mic Night
DESCRIPTION:Bring your short stories\, poems\, and music to share!
URL:https://www.theonyxgrounds.com/event-calendar/open-mic-night-9/
LOCATION:The Onyx Grounds\, 4711 S Highway 92\, Sierra Vista\, AZ\, 85650
ATTACH;FMTTYPE=image/jpeg:https://www.theonyxgrounds.com/wp-content/uploads/2022/08/OPEN-MIC-NIGHT-scaled-e1659388372173.jpg
END:VEVENT
BEGIN:VEVENT
DTSTART;TZID=UTC:20230509T180000
DTEND;TZID=UTC:20230509T200000
DTSTAMP:20260421T172302
CREATED:20221130T013016Z
LAST-MODIFIED:20221130T013016Z
UID:457-1683655200-1683662400@www.theonyxgrounds.com
SUMMARY:Open Mic Night
DESCRIPTION:Bring your short stories\, poems\, and music to share!
URL:https://www.theonyxgrounds.com/event-calendar/open-mic-night-10/
LOCATION:The Onyx Grounds\, 4711 S Highway 92\, Sierra Vista\, AZ\, 85650
ATTACH;FMTTYPE=image/jpeg:https://www.theonyxgrounds.com/wp-content/uploads/2022/08/OPEN-MIC-NIGHT-scaled-e1659388372173.jpg
END:VEVENT
BEGIN:VEVENT
DTSTART;TZID=UTC:20230530T080000
DTEND;TZID=UTC:20230607T170000
DTSTAMP:20260421T172302
CREATED:20230315T042600Z
LAST-MODIFIED:20230315T042600Z
UID:1053-1685433600-1686157200@www.theonyxgrounds.com
SUMMARY:Booked for Event
DESCRIPTION:
URL:https://www.theonyxgrounds.com/event-calendar/booked-for-event/
LOCATION:The Onyx Grounds\, 4711 S Highway 92\, Sierra Vista\, AZ\, 85650
ORGANIZER;CN="The Onyx Grounds":MAILTO:events@theonyxgrounds.com
END:VEVENT
BEGIN:VEVENT
DTSTART;TZID=UTC:20230613T180000
DTEND;TZID=UTC:20230613T200000
DTSTAMP:20260421T172302
CREATED:20221130T013041Z
LAST-MODIFIED:20221130T013041Z
UID:459-1686679200-1686686400@www.theonyxgrounds.com
SUMMARY:Open Mic Night
DESCRIPTION:Bring your short stories\, poems\, and music to share!
URL:https://www.theonyxgrounds.com/event-calendar/open-mic-night-11/
LOCATION:The Onyx Grounds\, 4711 S Highway 92\, Sierra Vista\, AZ\, 85650
ATTACH;FMTTYPE=image/jpeg:https://www.theonyxgrounds.com/wp-content/uploads/2022/08/OPEN-MIC-NIGHT-scaled-e1659388372173.jpg
END:VEVENT
END:VCALENDAR