BEGIN:VCALENDAR
VERSION:2.0
PRODID:-//The Onyx Grounds - ECPv6.6.0.2//NONSGML v1.0//EN
CALSCALE:GREGORIAN
METHOD:PUBLISH
X-ORIGINAL-URL:https://www.theonyxgrounds.com
X-WR-CALDESC:Events for The Onyx Grounds
REFRESH-INTERVAL;VALUE=DURATION:PT1H
X-Robots-Tag:noindex
X-PUBLISHED-TTL:PT1H
BEGIN:VTIMEZONE
TZID:UTC
BEGIN:STANDARD
TZOFFSETFROM:+0000
TZOFFSETTO:+0000
TZNAME:UTC
DTSTART:20220101T000000
END:STANDARD
END:VTIMEZONE
BEGIN:VEVENT
DTSTART;TZID=UTC:20221011T180000
DTEND;TZID=UTC:20221011T200000
DTSTAMP:20260421T143523
CREATED:20221002T233939Z
LAST-MODIFIED:20221002T233939Z
UID:370-1665511200-1665518400@www.theonyxgrounds.com
SUMMARY:Live Music: Carole & Scott Hurter
DESCRIPTION:
URL:https://www.theonyxgrounds.com/event-calendar/live-music-carole-scott-hurter/
LOCATION:Urbano Bar & Bistro\, 4711 S Highway 92\, Sierra Vista\, AZ\, 85650\, United States
ATTACH;FMTTYPE=image/jpeg:https://www.theonyxgrounds.com/wp-content/uploads/2022/10/IMG_0501.jpeg
END:VEVENT
BEGIN:VEVENT
DTSTART;TZID=UTC:20221013T180000
DTEND;TZID=UTC:20221013T200000
DTSTAMP:20260421T143523
CREATED:20220802T041804Z
LAST-MODIFIED:20220802T053535Z
UID:266-1665684000-1665691200@www.theonyxgrounds.com
SUMMARY:Open Mic Night
DESCRIPTION:Bring your short stories\, poems\, and music to share!
URL:https://www.theonyxgrounds.com/event-calendar/open-mic-night-3/
LOCATION:The Onyx Grounds\, 4711 S Highway 92\, Sierra Vista\, AZ\, 85650
ATTACH;FMTTYPE=image/jpeg:https://www.theonyxgrounds.com/wp-content/uploads/2022/08/OPEN-MIC-NIGHT-scaled-e1659388372173.jpg
END:VEVENT
BEGIN:VEVENT
DTSTART;TZID=UTC:20221018T180000
DTEND;TZID=UTC:20221018T200000
DTSTAMP:20260421T143523
CREATED:20221002T234016Z
LAST-MODIFIED:20221002T234016Z
UID:374-1666116000-1666123200@www.theonyxgrounds.com
SUMMARY:Live Music: Carole & Scott Hurter
DESCRIPTION:
URL:https://www.theonyxgrounds.com/event-calendar/live-music-carole-scott-hurter-2/
LOCATION:Urbano Bar & Bistro\, 4711 S Highway 92\, Sierra Vista\, AZ\, 85650\, United States
ATTACH;FMTTYPE=image/jpeg:https://www.theonyxgrounds.com/wp-content/uploads/2022/10/IMG_0501.jpeg
END:VEVENT
BEGIN:VEVENT
DTSTART;TZID=UTC:20221027T180000
DTEND;TZID=UTC:20221027T200000
DTSTAMP:20260421T143523
CREATED:20221021T003012Z
LAST-MODIFIED:20221021T003012Z
UID:393-1666893600-1666900800@www.theonyxgrounds.com
SUMMARY:Live Music: Carole & Scott Hurter
DESCRIPTION:
URL:https://www.theonyxgrounds.com/event-calendar/live-music-carole-scott-hurter-3/
LOCATION:Urbano Bar & Bistro\, 4711 S Highway 92\, Sierra Vista\, AZ\, 85650\, United States
ATTACH;FMTTYPE=image/jpeg:https://www.theonyxgrounds.com/wp-content/uploads/2022/10/IMG_0501.jpeg
END:VEVENT
END:VCALENDAR